BEGIN:VCALENDAR
VERSION:2.0
PRODID:icalendar-ruby
CALSCALE:GREGORIAN
BEGIN:VEVENT
DTSTAMP:20210120T114636Z
UID:fccc4286-00b2-4656-91a5-8c0a8cf4628e
DTSTART;VALUE=DATE:20201029
DESCRIPTION:Property ID# 492394\, Locatoin: Ray White\, 1/77 Thorndon Quay\
 , Wellington\, Time: 1:00PM
SUMMARY:Auction for 
END:VEVENT
END:VCALENDAR
