BEGIN:VCALENDAR
VERSION:2.0
PRODID:icalendar-ruby
CALSCALE:GREGORIAN
BEGIN:VEVENT
DTSTAMP:20210122T034716Z
UID:44f2b497-0735-4aa9-afab-a3603fce58e0
DTSTART;VALUE=DATE:20201104
DESCRIPTION:Property ID# 492391\, Locatoin: 77 Thorndon Quay\, Pipitea\, We
 llington\, Time: 2:00PM
SUMMARY:Auction for 
END:VEVENT
END:VCALENDAR
