BEGIN:VCALENDAR
VERSION:2.0
PRODID:icalendar-ruby
CALSCALE:GREGORIAN
BEGIN:VEVENT
DTSTAMP:20210120T114240Z
UID:bb35ff4a-2953-410c-b401-f5984312470e
DTSTART;VALUE=DATE:20201105
DESCRIPTION:Property ID# 492118\, Locatoin: Ray White Wellington City Level
  1 77 Thorndon Quay Wellington\, Time: 2:00PM
SUMMARY:Auction for 
END:VEVENT
END:VCALENDAR
