BEGIN:VCALENDAR
VERSION:2.0
PRODID:icalendar-ruby
CALSCALE:GREGORIAN
BEGIN:VEVENT
DTSTAMP:20210122T034106Z
UID:1e5a026f-0c18-4661-8ba4-ca2bb90f493d
DTSTART;VALUE=DATE:20201015
DESCRIPTION:Property ID# 490345\, Locatoin: 149 Johnsonville Raod\, Johnson
 ville\, Wellington 6037\, Time: 1:00PM
SUMMARY:Auction for 
END:VEVENT
END:VCALENDAR
