BEGIN:VCALENDAR
VERSION:2.0
PRODID:icalendar-ruby
CALSCALE:GREGORIAN
BEGIN:VEVENT
DTSTAMP:20210120T115012Z
UID:18a77b7a-d251-49ab-a440-8e560c3dbe64
DTSTART;VALUE=DATE:20201001
DESCRIPTION:Property ID# 490198\, Locatoin: 136 Karori Road\, Karori\, Well
 ington 6012\, Time: 12:00PM
SUMMARY:Auction for 
END:VEVENT
END:VCALENDAR
