BEGIN:VCALENDAR
VERSION:2.0
PRODID:icalendar-ruby
CALSCALE:GREGORIAN
BEGIN:VEVENT
DTSTAMP:20210122T034640Z
UID:6b19d37f-99b4-493f-8173-d8a082ba4785
DTSTART;VALUE=DATE:20200924
DESCRIPTION:Property ID# 489699\, Locatoin: 1/77 Thorndon Quay\, Wellington
 \, Time: 1:00PM
SUMMARY:Auction for 
END:VEVENT
END:VCALENDAR
