BEGIN:VCALENDAR
VERSION:2.0
PRODID:icalendar-ruby
CALSCALE:GREGORIAN
BEGIN:VEVENT
DTSTAMP:20210122T034701Z
UID:9d904aed-287b-4868-aec9-434c9a4c52d9
DTSTART;VALUE=DATE:20200923
DESCRIPTION:Property ID# 489439\, Locatoin: 21 Ganges Road\, Khandallah\, T
 ime: 12:00PM
SUMMARY:Auction for 
END:VEVENT
END:VCALENDAR
