BEGIN:VCALENDAR
VERSION:2.0
PRODID:icalendar-ruby
CALSCALE:GREGORIAN
BEGIN:VEVENT
DTSTAMP:20210122T034043Z
UID:6c5e8a8a-4acd-45c8-969d-43f5c11da652
DTSTART;VALUE=DATE:20200916
DESCRIPTION:Property ID# 489169\, Time: 1:00PM
SUMMARY:Auction for 
END:VEVENT
END:VCALENDAR
