BEGIN:VCALENDAR
VERSION:2.0
PRODID:icalendar-ruby
CALSCALE:GREGORIAN
BEGIN:VEVENT
DTSTAMP:20210122T034642Z
UID:537f733d-9b38-43ed-950a-51f11d196265
DTSTART;VALUE=DATE:20200903
DESCRIPTION:Property ID# 487896\, Locatoin: 1/77 Thorndon Quay\, Wellington
 \, Time: 1:00PM
SUMMARY:Auction for 
END:VEVENT
END:VCALENDAR
