BEGIN:VCALENDAR
VERSION:2.0
PRODID:icalendar-ruby
CALSCALE:GREGORIAN
BEGIN:VEVENT
DTSTAMP:20210120T114303Z
UID:137dbf9b-4e13-4b12-90e2-073576157807
DTSTART;VALUE=DATE:20200819
DESCRIPTION:Property ID# 486519\, Time: 12:00PM
SUMMARY:Auction for 
END:VEVENT
END:VCALENDAR
