BEGIN:VCALENDAR
VERSION:2.0
PRODID:icalendar-ruby
CALSCALE:GREGORIAN
BEGIN:VEVENT
DTSTAMP:20210122T034108Z
UID:fd4ecd64-579f-4279-bdb2-57c450f77a01
DTSTART;VALUE=DATE:20200917
DESCRIPTION:Property ID# 486486\, Locatoin: 149 Johnsonville Raod\, Johnson
 ville\, Wellington 6037120\, Time: 1:00PM
SUMMARY:Auction for 
END:VEVENT
END:VCALENDAR
