BEGIN:VCALENDAR
VERSION:2.0
PRODID:icalendar-ruby
CALSCALE:GREGORIAN
BEGIN:VEVENT
DTSTAMP:20210120T114348Z
UID:abe52d6a-0ae7-481c-8ff1-a0be4f8dc8b0
DTSTART;VALUE=DATE:20200827
DESCRIPTION:Property ID# 486459\, Locatoin: 77 Thorndon Quay\, Pipitea\, We
 llington\, Time: 2:00PM
SUMMARY:Auction for 
END:VEVENT
END:VCALENDAR
