BEGIN:VCALENDAR
VERSION:2.0
PRODID:icalendar-ruby
CALSCALE:GREGORIAN
BEGIN:VEVENT
DTSTAMP:20210122T034719Z
UID:5b7cf97c-d87a-4c3f-99db-0c511ff28138
DTSTART;VALUE=DATE:20200826
DESCRIPTION:Property ID# 486455\, Locatoin: 77 Thorndon Quay\, Pipitea\, We
 llington\, Time: 12:00PM
SUMMARY:Auction for 
END:VEVENT
END:VCALENDAR
