BEGIN:VCALENDAR
VERSION:2.0
PRODID:icalendar-ruby
CALSCALE:GREGORIAN
BEGIN:VEVENT
DTSTAMP:20210122T034643Z
UID:f48543e3-a525-4038-af0a-d1d9bd2fb112
DTSTART;VALUE=DATE:20200805
DESCRIPTION:Property ID# 485728\, Locatoin: 1/77 Thorndon Quay\, Wellington
 \, Time: 1:00PM
SUMMARY:Auction for 
END:VEVENT
END:VCALENDAR
