BEGIN:VCALENDAR
VERSION:2.0
PRODID:icalendar-ruby
CALSCALE:GREGORIAN
BEGIN:VEVENT
DTSTAMP:20210122T034025Z
UID:68ca1898-bd30-4483-8fa5-feb22e185fcc
DTSTART;VALUE=DATE:20200730
DESCRIPTION:Property ID# 485005\, Locatoin: Ray White Wellington City Level
  1 77 Thorndon Quay Wellington\, Time: 12:00PM
SUMMARY:Auction for 
END:VEVENT
END:VCALENDAR
