BEGIN:VCALENDAR
VERSION:2.0
PRODID:icalendar-ruby
CALSCALE:GREGORIAN
BEGIN:VEVENT
DTSTAMP:20210120T114958Z
UID:22750890-b461-47ca-a651-9b2f6383e13f
DTSTART;VALUE=DATE:20200724
DESCRIPTION:Property ID# 484211\, Locatoin: Harcourts Wellington City Offic
 e\, 54-56 Cambridge Terrace (unless sold prior)\, Time: 12:00PM
SUMMARY:Auction for 
END:VEVENT
END:VCALENDAR
