BEGIN:VCALENDAR
VERSION:2.0
PRODID:icalendar-ruby
CALSCALE:GREGORIAN
BEGIN:VEVENT
DTSTAMP:20210122T034027Z
UID:d0004767-73c6-4c87-9daf-0b7bf86873fb
DTSTART;VALUE=DATE:20200716
DESCRIPTION:Property ID# 483924\, Locatoin: Ray White Wellington City Level
  1 77 Thorndon Quay Wellington\, Time: 12:00PM
SUMMARY:Auction for 
END:VEVENT
END:VCALENDAR
