BEGIN:VCALENDAR
VERSION:2.0
PRODID:icalendar-ruby
CALSCALE:GREGORIAN
BEGIN:VEVENT
DTSTAMP:20210122T034007Z
UID:38b2eb10-bd86-4649-93c8-97adaf2ccfc0
DTSTART;VALUE=DATE:20200701
DESCRIPTION:Property ID# 482566\, Locatoin: Harcourts Khandallah - 6 Dekka 
 Street\, Khandallah (not selling prior)\, Time: 12:00PM
SUMMARY:Auction for 
END:VEVENT
END:VCALENDAR
