BEGIN:VCALENDAR
VERSION:2.0
PRODID:icalendar-ruby
CALSCALE:GREGORIAN
BEGIN:VEVENT
DTSTAMP:20210122T034008Z
UID:47453e2e-b7d6-4405-a2c4-a8adcd129f16
DTSTART;VALUE=DATE:20200629
DESCRIPTION:Property ID# 482232\, Locatoin: Harcourts Khandallah - 6 Dekka 
 Street\, Khandallah (not selling prior)\, Time: 12:00PM
SUMMARY:Auction for 
END:VEVENT
END:VCALENDAR
