BEGIN:VCALENDAR
VERSION:2.0
PRODID:icalendar-ruby
CALSCALE:GREGORIAN
BEGIN:VEVENT
DTSTAMP:20210122T034703Z
UID:d9fcd009-d91a-4197-b47c-66db5e4d7625
DTSTART;VALUE=DATE:20200624
DESCRIPTION:Property ID# 482178\, Locatoin: Ray White Khandallah - 21 Gange
 s Road\, Khandallah\, Time: 1:00PM
SUMMARY:Auction for 
END:VEVENT
END:VCALENDAR
