BEGIN:VCALENDAR
VERSION:2.0
PRODID:icalendar-ruby
CALSCALE:GREGORIAN
BEGIN:VEVENT
DTSTAMP:20210122T034645Z
UID:c7ad12fd-1eae-48db-ad77-60443085f423
DTSTART;VALUE=DATE:20200611
DESCRIPTION:Property ID# 481885\, Locatoin: 1/77 Thorndon Quay\, Wellington
 \, Time: 1:00PM
SUMMARY:Auction for 
END:VEVENT
END:VCALENDAR
