BEGIN:VCALENDAR
VERSION:2.0
PRODID:icalendar-ruby
CALSCALE:GREGORIAN
BEGIN:VEVENT
DTSTAMP:20210120T114226Z
UID:78f17d61-e865-4734-a0b6-c2a7455d715b
DTSTART;VALUE=DATE:20200610
DESCRIPTION:Property ID# 480877\, Locatoin: Harcourts Khandallah - 6 Dekka 
 Street\, Khandallah (if not sold prior)\, Time: 12:00PM
SUMMARY:Auction for 
END:VEVENT
END:VCALENDAR
