BEGIN:VCALENDAR
VERSION:2.0
PRODID:icalendar-ruby
CALSCALE:GREGORIAN
BEGIN:VEVENT
DTSTAMP:20260424T114800Z
UID:efd9acee-0f93-45d1-be55-0510eebb5e70
DTSTART;VALUE=DATE:20200402
DESCRIPTION:Property ID# 475425\, Locatoin: 149 Johnsonville Raod\, Johnson
 ville\, Wellington 6037\, Time: 1:00PM
SUMMARY:Auction for 
END:VEVENT
END:VCALENDAR
