BEGIN:VCALENDAR
VERSION:2.0
PRODID:icalendar-ruby
CALSCALE:GREGORIAN
BEGIN:VEVENT
DTSTAMP:20210120T115000Z
UID:ac4ad955-7866-4f56-9a53-b0d9dccc8a5a
DTSTART;VALUE=DATE:20200325
DESCRIPTION:Property ID# 475081\, Locatoin: Harcourts Wellington City Offic
 e\, 54-56 Cambridge Terrace\, Wellington (unless sold prior)\, Time: 3:00P
 M
SUMMARY:Auction for 
END:VEVENT
END:VCALENDAR
