BEGIN:VCALENDAR
VERSION:2.0
PRODID:icalendar-ruby
CALSCALE:GREGORIAN
BEGIN:VEVENT
DTSTAMP:20210122T034112Z
UID:4bc20140-42b4-4a3a-be7a-9d09a3881e20
DTSTART;VALUE=DATE:20200326
DESCRIPTION:Property ID# 474400\, Locatoin: 149 Johnsonville Raod\, Johnson
 ville\, Wellington 6037\, Time: 1:00PM
SUMMARY:Auction for 
END:VEVENT
END:VCALENDAR
