BEGIN:VCALENDAR
VERSION:2.0
PRODID:icalendar-ruby
CALSCALE:GREGORIAN
BEGIN:VEVENT
DTSTAMP:20210122T034647Z
UID:86dab855-e251-4107-b8eb-afb30c95e32c
DTSTART;VALUE=DATE:20200312
DESCRIPTION:Property ID# 474304\, Locatoin: 1/77 Thorndon Quay\, Wellington
 \, Time: 1:00PM
SUMMARY:Auction for 
END:VEVENT
END:VCALENDAR
