BEGIN:VCALENDAR
VERSION:2.0
PRODID:icalendar-ruby
CALSCALE:GREGORIAN
BEGIN:VEVENT
DTSTAMP:20210120T114354Z
UID:2fa46ba0-67a6-40ab-986e-efedd1f18737
DTSTART;VALUE=DATE:20200304
DESCRIPTION:Property ID# 472479\, Time: 12:00PM
SUMMARY:Auction for 
END:VEVENT
END:VCALENDAR
