BEGIN:VCALENDAR
VERSION:2.0
PRODID:icalendar-ruby
CALSCALE:GREGORIAN
BEGIN:VEVENT
DTSTAMP:20210122T034725Z
UID:cd4d3003-e942-4f2f-b507-0705559de331
DTSTART;VALUE=DATE:20200305
DESCRIPTION:Property ID# 472477\, Time: 2:00PM
SUMMARY:Auction for 
END:VEVENT
END:VCALENDAR
