BEGIN:VCALENDAR
VERSION:2.0
PRODID:icalendar-ruby
CALSCALE:GREGORIAN
BEGIN:VEVENT
DTSTAMP:20210122T034117Z
UID:fedb7cba-2853-4c96-be40-a9d167fbef26
DTSTART;VALUE=DATE:20200227
DESCRIPTION:Property ID# 471640\, Locatoin: 149 Johnsonville Raod\, Johnson
 ville\, Wellington 6037\, Time: 1:00PM
SUMMARY:Auction for 
END:VEVENT
END:VCALENDAR
