BEGIN:VCALENDAR
VERSION:2.0
PRODID:icalendar-ruby
CALSCALE:GREGORIAN
BEGIN:VEVENT
DTSTAMP:20210122T034118Z
UID:4e066e7b-9969-457f-a9b2-4102f6074cc1
DTSTART;VALUE=DATE:20200220
DESCRIPTION:Property ID# 471093\, Locatoin: 149 Johnsonville Raod\, Johnson
 ville\, Wellington 6037\, Time: 1:00PM
SUMMARY:Auction for 
END:VEVENT
END:VCALENDAR
