BEGIN:VCALENDAR
VERSION:2.0
PRODID:icalendar-ruby
CALSCALE:GREGORIAN
BEGIN:VEVENT
DTSTAMP:20210122T034650Z
UID:b8c0b17c-1c44-46a5-af12-464ad2f297ae
DTSTART;VALUE=DATE:20200130
DESCRIPTION:Property ID# 470582\, Locatoin: Ray White\, 9-11 Kings Crescent
 \, Lower Hutt\, Time: 1:00PM
SUMMARY:Auction for 
END:VEVENT
END:VCALENDAR
