BEGIN:VCALENDAR
VERSION:2.0
PRODID:icalendar-ruby
CALSCALE:GREGORIAN
BEGIN:VEVENT
DTSTAMP:20210120T115018Z
UID:034a2419-f3b4-468a-861b-3fcd6f44bfd7
DTSTART;VALUE=DATE:20200204
DESCRIPTION:Property ID# 469150\, Locatoin: Harcourts Tawa Realty Limited\,
  215 Main Road\, Tawa\, Time: 4:00PM
SUMMARY:Auction for 
END:VEVENT
END:VCALENDAR
