BEGIN:VCALENDAR
VERSION:2.0
PRODID:icalendar-ruby
CALSCALE:GREGORIAN
BEGIN:VEVENT
DTSTAMP:20210120T115024Z
UID:2a26795e-3673-43d8-a4fb-3fca17c04f23
DTSTART;VALUE=DATE:20191218
DESCRIPTION:Property ID# 468639\, Locatoin: Ray White City Office\, 1/77 Th
 orndon Quay\, Time: 12:00PM
SUMMARY:Auction for 
END:VEVENT
END:VCALENDAR
