BEGIN:VCALENDAR
VERSION:2.0
PRODID:icalendar-ruby
CALSCALE:GREGORIAN
BEGIN:VEVENT
DTSTAMP:20210122T034728Z
UID:0f1480cf-f09f-43c2-b54c-16260695dc6d
DTSTART;VALUE=DATE:20191212
DESCRIPTION:Property ID# 468224\, Locatoin: Level 1\, 77 Thorndon Quay\, Pi
 pitea\, Wellington\, Time: 2:00PM
SUMMARY:Auction for 
END:VEVENT
END:VCALENDAR
