BEGIN:VCALENDAR
VERSION:2.0
PRODID:icalendar-ruby
CALSCALE:GREGORIAN
BEGIN:VEVENT
DTSTAMP:20210122T034730Z
UID:19fdb285-3a7f-497b-ba48-68b635f540c9
DTSTART;VALUE=DATE:20191128
DESCRIPTION:Property ID# 466454\, Locatoin: 77 Thorndon Quay\, Pipitea\, We
 llington\, Time: 2:00PM
SUMMARY:Auction for 
END:VEVENT
END:VCALENDAR
