BEGIN:VCALENDAR
VERSION:2.0
PRODID:icalendar-ruby
CALSCALE:GREGORIAN
BEGIN:VEVENT
DTSTAMP:20260424T115400Z
UID:5caed1cb-f7c8-4516-9d59-b7d209a62028
DTSTART;VALUE=DATE:20191121
DESCRIPTION:Property ID# 466179\, Locatoin: Level 1\, 77 Thorndon Quay\, Ti
 me: 12:00PM
SUMMARY:Auction for 
END:VEVENT
END:VCALENDAR
