BEGIN:VCALENDAR
VERSION:2.0
PRODID:icalendar-ruby
CALSCALE:GREGORIAN
BEGIN:VEVENT
DTSTAMP:20210122T034123Z
UID:a10fb807-c765-4253-9fca-9ca01ce524f9
DTSTART;VALUE=DATE:20191205
DESCRIPTION:Property ID# 465865\, Locatoin: 149 Johnsonville Raod\, Johnson
 ville\, Wellington 6037\, Time: 1:00PM
SUMMARY:Auction for 
END:VEVENT
END:VCALENDAR
