BEGIN:VCALENDAR
VERSION:2.0
PRODID:icalendar-ruby
CALSCALE:GREGORIAN
BEGIN:VEVENT
DTSTAMP:20210120T115004Z
UID:d3fc8ba9-5172-4f2a-85f8-52ceaa3b8160
DTSTART;VALUE=DATE:20191105
DESCRIPTION:Property ID# 464734\, Locatoin: Harcourts Team Wellington Ltd\,
  Level 1\, 54-56 Cambridge Terrace\, Te Aro\, Wellington\, Time: 4:00PM
SUMMARY:Auction for 
END:VEVENT
END:VCALENDAR
