BEGIN:VCALENDAR
VERSION:2.0
PRODID:icalendar-ruby
CALSCALE:GREGORIAN
BEGIN:VEVENT
DTSTAMP:20210120T114402Z
UID:0c43fae2-f52f-4b1f-a2cb-bbbba57a0c3c
DTSTART;VALUE=DATE:20191107
DESCRIPTION:Property ID# 464481\, Locatoin: Level 1\, 77 Thorndon Quay - Ra
 y White City Office\, Time: 2:00PM
SUMMARY:Auction for 
END:VEVENT
END:VCALENDAR
