BEGIN:VCALENDAR
VERSION:2.0
PRODID:icalendar-ruby
CALSCALE:GREGORIAN
BEGIN:VEVENT
DTSTAMP:20210120T115026Z
UID:903a16a7-24c8-4479-88d3-d29e31472721
DTSTART;VALUE=DATE:20191030
DESCRIPTION:Property ID# 464316\, Locatoin: Ray White City Office\, 77 Thor
 ndon Quay\, Time: 12:00PM
SUMMARY:Auction for 
END:VEVENT
END:VCALENDAR
