BEGIN:VCALENDAR
VERSION:2.0
PRODID:icalendar-ruby
CALSCALE:GREGORIAN
BEGIN:VEVENT
DTSTAMP:20210122T034125Z
UID:67f6bf3e-91d3-43e3-b12b-be1ba2f597c1
DTSTART;VALUE=DATE:20191114
DESCRIPTION:Property ID# 464012\, Locatoin: 149 Johnsonville Raod\, Johnson
 ville\, Wellington 6037\, Time: 1:00PM
SUMMARY:Auction for 
END:VEVENT
END:VCALENDAR
