BEGIN:VCALENDAR
VERSION:2.0
PRODID:icalendar-ruby
CALSCALE:GREGORIAN
BEGIN:VEVENT
DTSTAMP:20210120T114341Z
UID:0d5d5c8b-e631-4768-a4ca-60da36264e22
DTSTART;VALUE=DATE:20191031
DESCRIPTION:Property ID# 463430\, Locatoin: 149 Johnsonville Road\, Johnson
 ville - 1pm\, Time: 1:00PM
SUMMARY:Auction for 
END:VEVENT
END:VCALENDAR
