BEGIN:VCALENDAR
VERSION:2.0
PRODID:icalendar-ruby
CALSCALE:GREGORIAN
BEGIN:VEVENT
DTSTAMP:20210122T034653Z
UID:d92bec8e-f042-4ef5-a260-7ba40ea560d6
DTSTART;VALUE=DATE:20190912
DESCRIPTION:Property ID# 460991\, Time: 1:00PM
SUMMARY:Auction for 
END:VEVENT
END:VCALENDAR
