BEGIN:VCALENDAR
VERSION:2.0
PRODID:icalendar-ruby
CALSCALE:GREGORIAN
BEGIN:VEVENT
DTSTAMP:20210120T115007Z
UID:5bf65bfa-ceb2-45f7-9b99-167e916ea0f9
DTSTART;VALUE=DATE:20190913
DESCRIPTION:Property ID# 460052\, Locatoin: Harcourts Wellington City Offic
 e\, 54-56 Cambridge Terrace\, Time: 12:00PM
SUMMARY:Auction for 
END:VEVENT
END:VCALENDAR
