BEGIN:VCALENDAR
VERSION:2.0
PRODID:icalendar-ruby
CALSCALE:GREGORIAN
BEGIN:VEVENT
DTSTAMP:20210120T115009Z
UID:ee3b3e86-5eb5-47de-bfdf-2043cb51d6dd
DTSTART;VALUE=DATE:20190905
DESCRIPTION:Property ID# 459855\, Locatoin: Harcourts Wellington City Offic
 e\, 54-56 Cambridge Terrace\, Time: 3:00PM
SUMMARY:Auction for 
END:VEVENT
END:VCALENDAR
